BEGIN:VCALENDAR
VERSION:2.0
PRODID:-//www.trinityhollyhill.org//NONSGML kigkonsult.se iCalcreator 2.39.
 1//
CALSCALE:GREGORIAN
METHOD:PUBLISH
UID:398f1c73-1235-4496-bea7-b8b2746f101a
X-WR-CALNAME:www.trinityhollyhill.org
X-WR-CALDESC:www.trinityhollyhill.org
X-WR-TIMEZONE:America/Los_Angeles
X-LIC-LOCATION:America/Los_Angeles
BEGIN:VEVENT
UID:3aaac94f-811c-4959-82b0-2b59d1a5c9b2
DTSTAMP:20260422T135804Z
CLASS:PUBLIC
DTSTART;TZID=America/Los_Angeles:20260426T090000
DTEND;TZID=America/Los_Angeles:20260426T100000
LOCATION:TRINITY LUTHERAN CHURCH - Holly Hill
SUMMARY:Bible Study
TRANSP:OPAQUE
BEGIN:VALARM
ACTION:DISPLAY
DESCRIPTION:Bible Study
TRIGGER:-PT15M
END:VALARM
END:VEVENT
END:VCALENDAR
